BEGIN:VCALENDAR
VERSION:2.0
PRODID:-//CCI Support - ECPv4.4.5//NONSGML v1.0//EN
CALSCALE:GREGORIAN
METHOD:PUBLISH
X-WR-CALNAME:CCI Support
X-ORIGINAL-URL:https://ccisupport.org.nz
X-WR-CALDESC:Events for CCI Support
BEGIN:VEVENT
DTSTART;TZID=UTC+0:20170512T133000
DTEND;TZID=UTC+0:20170512T153000
DTSTAMP:20180121T232647
CREATED:20170504T001655Z
LAST-MODIFIED:20170511T034015Z
UID:812-1494595800-1494603000@ccisupport.org.nz
SUMMARY:Complex Chronic Illness Support - Rebrand Launch
DESCRIPTION:Come along and hear about how our services can help your community.\n\n \n\nRSVP (for catering purposes) by 30 April to info@ccisupport.org.nz
URL:https://ccisupport.org.nz/event/cci-support-launch/
LOCATION:53 Eleventh Avenue\, Tauranga\, 3110\, New Zealand
END:VEVENT
END:VCALENDAR