BEGIN:VCALENDAR
VERSION:2.0
PRODID:-//CCI Support - ECPv4.4.5//NONSGML v1.0//EN
CALSCALE:GREGORIAN
METHOD:PUBLISH
X-WR-CALNAME:CCI Support
X-ORIGINAL-URL:https://ccisupport.org.nz
X-WR-CALDESC:Events for CCI Support
BEGIN:VEVENT
DTSTART;TZID=UTC+0:20170501T080000
DTEND;TZID=UTC+0:20170501T170000
DTSTAMP:20180121T233014
CREATED:20170418T045117Z
LAST-MODIFIED:20170418T045117Z
UID:500-1493625600-1493658000@ccisupport.org.nz
SUMMARY:Event One
DESCRIPTION:Event One
URL:https://ccisupport.org.nz/event/event-one/
LOCATION:Here\, Here\, BOP\, 3175\, New Zealand
CATEGORIES:Calendar Category One
END:VEVENT
END:VCALENDAR